BEGIN:VCALENDAR
PRODID:-//Footcal//footcal.cbdm.app//EN
VERSION:2.0
CALSCALE:GREGORIAN
METHOD:PUBLISH
X-WR-CALNAME:Criciuma
X-WR-TIMEZONE:UTC
BEGIN:VEVENT
DTSTART:20260419T230000Z
DTEND:20260420T010000Z
DTSTAMP:20260420T010242Z
UID:2026-04-19_72_154_140@footcal.cbdm.app
CREATED:20260420T010242Z
DESCRIPTION:Ref: L. Casagrande
LAST-MODIFIED:20260420T010242Z
LOCATION:None\, Fortaleza
SEQUENCE:0
STATUS:CONFIRMED
SUMMARY:[Serie B] Fortaleza EC - Criciuma
TRANSP:OPAQUE
END:VEVENT
BEGIN:VEVENT
DTSTART:20260426T233000Z
DTEND:20260427T013000Z
DTSTAMP:20260420T010242Z
UID:2026-04-26_72_140_146@footcal.cbdm.app
CREATED:20260420T010242Z
DESCRIPTION:Ref: None
LAST-MODIFIED:20260420T010242Z
LOCATION:None\, None
SEQUENCE:0
STATUS:CONFIRMED
SUMMARY:[Serie B] Criciuma - CRB
TRANSP:OPAQUE
END:VEVENT
BEGIN:VEVENT
DTSTART:20260502T213000Z
DTEND:20260502T233000Z
DTSTAMP:20260420T010242Z
UID:2026-05-02_72_1193_140@footcal.cbdm.app
CREATED:20260420T010242Z
DESCRIPTION:Ref: None
LAST-MODIFIED:20260420T010242Z
LOCATION:Arena Pantanal\, None
SEQUENCE:0
STATUS:CONFIRMED
SUMMARY:[Serie B] Cuiaba - Criciuma
TRANSP:OPAQUE
END:VEVENT
BEGIN:VEVENT
DTSTART:20260510T001500Z
DTEND:20260510T021500Z
DTSTAMP:20260420T010242Z
UID:2026-05-10_72_152_140@footcal.cbdm.app
CREATED:20260420T010242Z
DESCRIPTION:Ref: None
LAST-MODIFIED:20260420T010242Z
LOCATION:Estadio Alfredo Jaconi\, Caxias do Sul
SEQUENCE:0
STATUS:CONFIRMED
SUMMARY:[Serie B] Juventude - Criciuma
TRANSP:OPAQUE
END:VEVENT
BEGIN:VEVENT
DTSTART:20260517T213000Z
DTEND:20260517T233000Z
DTSTAMP:20260420T010242Z
UID:2026-05-17_72_140_144@footcal.cbdm.app
CREATED:20260420T010242Z
DESCRIPTION:Ref: None
LAST-MODIFIED:20260420T010242Z
LOCATION:None\, None
SEQUENCE:0
STATUS:CONFIRMED
SUMMARY:[Serie B] Criciuma - Atletico Goianiense
TRANSP:OPAQUE
END:VEVENT
BEGIN:VEVENT
DTSTART:20260524T233000Z
DTEND:20260525T013000Z
DTSTAMP:20260420T010242Z
UID:2026-05-24_72_1223_140@footcal.cbdm.app
CREATED:20260420T010242Z
DESCRIPTION:Ref: None
LAST-MODIFIED:20260420T010242Z
LOCATION:None\, Ponta Grossa
SEQUENCE:0
STATUS:CONFIRMED
SUMMARY:[Serie B] Operario-PR - Criciuma
TRANSP:OPAQUE
END:VEVENT
BEGIN:VEVENT
DTSTART:20260530T190000Z
DTEND:20260530T210000Z
DTSTAMP:20260420T010242Z
UID:2026-05-30_72_145_140@footcal.cbdm.app
CREATED:20260420T010242Z
DESCRIPTION:Ref: None
LAST-MODIFIED:20260420T010242Z
LOCATION:Ressacada\, None
SEQUENCE:0
STATUS:CONFIRMED
SUMMARY:[Serie B] Avai - Criciuma
TRANSP:OPAQUE
END:VEVENT
BEGIN:VEVENT
DTSTART:20260609T190000Z
DTEND:20260609T210000Z
DTSTAMP:20260420T010242Z
UID:2026-06-09_72_140_148@footcal.cbdm.app
CREATED:20260420T010242Z
DESCRIPTION:Ref: None
LAST-MODIFIED:20260420T010242Z
LOCATION:None\, None
SEQUENCE:0
STATUS:CONFIRMED
SUMMARY:[Serie B] Criciuma - Londrina
TRANSP:OPAQUE
END:VEVENT
BEGIN:VEVENT
DTSTART:20260613T190000Z
DTEND:20260613T210000Z
DTSTAMP:20260420T010242Z
UID:2026-06-13_72_140_129@footcal.cbdm.app
CREATED:20260420T010242Z
DESCRIPTION:Ref: None
LAST-MODIFIED:20260420T010242Z
LOCATION:None\, None
SEQUENCE:0
STATUS:CONFIRMED
SUMMARY:[Serie B] Criciuma - Ceara
TRANSP:OPAQUE
END:VEVENT
BEGIN:VEVENT
DTSTART:20260620T190000Z
DTEND:20260620T210000Z
DTSTAMP:20260420T010242Z
UID:2026-06-20_72_125_140@footcal.cbdm.app
CREATED:20260420T010242Z
DESCRIPTION:Ref: None
LAST-MODIFIED:20260420T010242Z
LOCATION:None\, Belo Horizonte
SEQUENCE:0
STATUS:CONFIRMED
SUMMARY:[Serie B] America Mineiro - Criciuma
TRANSP:OPAQUE
END:VEVENT
BEGIN:VEVENT
DTSTART:20260410T233000Z
DTEND:20260411T013000Z
DTSTAMP:20260420T010242Z
UID:2026-04-10_72_140_2618@footcal.cbdm.app
CREATED:20260420T010242Z
DESCRIPTION:Ref: Lucas Guimarães Rechatiko Horn\, Brazil
LAST-MODIFIED:20260420T010242Z
LOCATION:Estádio Heriberto Hülse\, Criciúma
SEQUENCE:0
STATUS:CONFIRMED
SUMMARY:[Serie B] Criciuma (1) - (0) Botafogo SP
TRANSP:OPAQUE
END:VEVENT
BEGIN:VEVENT
DTSTART:20260407T000000Z
DTEND:20260407T020000Z
DTSTAMP:20260420T010242Z
UID:2026-04-07_72_151_140@footcal.cbdm.app
CREATED:20260420T010242Z
DESCRIPTION:Ref: Alex Gomes Stefano\, Brazil
LAST-MODIFIED:20260420T010242Z
LOCATION:Estádio da Serrinha\, Goiânia
SEQUENCE:0
STATUS:CONFIRMED
SUMMARY:[Serie B] Goias (1) - (0) Criciuma
TRANSP:OPAQUE
END:VEVENT
BEGIN:VEVENT
DTSTART:20260402T003000Z
DTEND:20260402T023000Z
DTSTAMP:20260420T010242Z
UID:2026-04-02_72_140_13975@footcal.cbdm.app
CREATED:20260420T010242Z
DESCRIPTION:Ref: B. Vasconcelos
LAST-MODIFIED:20260420T010242Z
LOCATION:Estádio Heriberto Hülse\, Criciúma
SEQUENCE:0
STATUS:CONFIRMED
SUMMARY:[Serie B] Criciuma (1) - (1) Athletic Club
TRANSP:OPAQUE
END:VEVENT
BEGIN:VEVENT
DTSTART:20260322T190000Z
DTEND:20260322T210000Z
DTSTAMP:20260420T010242Z
UID:2026-03-22_72_755_140@footcal.cbdm.app
CREATED:20260420T010242Z
DESCRIPTION:Ref: Andre Luis Skettino Policarpo Bento\, Brazil
LAST-MODIFIED:20260420T010242Z
LOCATION:Aflitos\, Recife
SEQUENCE:0
STATUS:CONFIRMED
SUMMARY:[Serie B] Nautico Recife (0) - (1) Criciuma
TRANSP:OPAQUE
END:VEVENT
BEGIN:VEVENT
DTSTART:20260307T210000Z
DTEND:20260307T230000Z
DTSTAMP:20260420T010242Z
UID:2026-03-07_604_140_18272@footcal.cbdm.app
CREATED:20260420T010242Z
DESCRIPTION:Ref: None
LAST-MODIFIED:20260420T010242Z
LOCATION:None\, None
SEQUENCE:0
STATUS:CONFIRMED
SUMMARY:[Catarinense - 1] Criciuma (3) - (2) Camboriú
TRANSP:OPAQUE
END:VEVENT
END:VCALENDAR
